Package: MSstatsQC Version: 2.27.0 Command: /Library/Frameworks/R.framework/Resources/bin/R CMD INSTALL MSstatsQC StartedAt: 2025-07-21 15:20:29 -0400 (Mon, 21 Jul 2025) EndedAt: 2025-07-21 15:20:45 -0400 (Mon, 21 Jul 2025) EllapsedTime: 15.6 seconds RetCode: 0 Status: OK