Package: MSstatsQC Version: 2.27.0 Command: /Library/Frameworks/R.framework/Resources/bin/R CMD build --keep-empty-dirs --no-resave-data MSstatsQC StartedAt: 2025-07-21 17:02:02 -0400 (Mon, 21 Jul 2025) EndedAt: 2025-07-21 17:02:32 -0400 (Mon, 21 Jul 2025) EllapsedTime: 29.4 seconds RetCode: 0 Status: OK PackageFile: MSstatsQC_2.27.0.tar.gz PackageFileSize: 2.295 MiB