Package: MSstatsQC Version: 2.27.0 Command: rm -rf MSstatsQC.buildbin-libdir && mkdir MSstatsQC.buildbin-libdir && /Users/biocbuild/BBS/utils/build-universal.sh MSstatsQC_2.27.0.tar.gz /Library/Frameworks/R.framework/Resources/bin/R MSstatsQC.buildbin-libdir StartedAt: 2025-07-21 22:33:38 -0400 (Mon, 21 Jul 2025) EndedAt: 2025-07-21 22:33:55 -0400 (Mon, 21 Jul 2025) EllapsedTime: 17.4 seconds RetCode: 0 Status: OK PackageFile: MSstatsQC_2.27.0.tgz PackageFileSize: 2.37 MiB