Package: MSstatsPTM Version: 2.11.2 Command: /home/biocbuild/R/R/bin/R CMD INSTALL MSstatsPTM StartedAt: 2025-06-30 20:42:36 -0000 (Mon, 30 Jun 2025) EndedAt: 2025-06-30 20:43:13 -0000 (Mon, 30 Jun 2025) EllapsedTime: 37.1 seconds RetCode: 0 Status: OK