Package: MSstatsPTM Version: 2.11.2 Command: /home/biocbuild/R/R/bin/R CMD check --install=check:MSstatsPTM.install-out.txt --library=/home/biocbuild/R/R/site-library --no-vignettes --timings MSstatsPTM_2.11.2.tar.gz StartedAt: 2025-07-01 09:42:13 -0000 (Tue, 01 Jul 2025) EndedAt: 2025-07-01 09:46:32 -0000 (Tue, 01 Jul 2025) EllapsedTime: 258.2 seconds RetCode: 0 Status: WARNINGS CheckDir: MSstatsPTM.Rcheck Warnings: 2