Package: MSstatsPTM Version: 2.11.3 Command: F:\biocbuild\bbs-3.22-bioc\R\bin\R.exe CMD INSTALL MSstatsPTM StartedAt: 2025-07-14 15:53:50 -0400 (Mon, 14 Jul 2025) EndedAt: 2025-07-14 15:55:16 -0400 (Mon, 14 Jul 2025) EllapsedTime: 86.2 seconds RetCode: 0 Status: OK