Package: MSstatsPTM Version: 2.11.3 Command: F:\biocbuild\bbs-3.22-bioc\R\bin\R.exe CMD check --no-multiarch --install=check:MSstatsPTM.install-out.txt --library=F:\biocbuild\bbs-3.22-bioc\R\library --no-vignettes --timings MSstatsPTM_2.11.3.tar.gz StartedAt: 2025-07-18 04:22:25 -0400 (Fri, 18 Jul 2025) EndedAt: 2025-07-18 04:27:23 -0400 (Fri, 18 Jul 2025) EllapsedTime: 297.8 seconds RetCode: 0 Status: WARNINGS CheckDir: MSstatsPTM.Rcheck Warnings: 2