Package: MSstatsPTM Version: 2.11.3 Command: rm -rf MSstatsPTM.buildbin-libdir && mkdir MSstatsPTM.buildbin-libdir && F:\biocbuild\bbs-3.22-bioc\R\bin\R.exe CMD INSTALL --build --library=MSstatsPTM.buildbin-libdir MSstatsPTM_2.11.3.tar.gz StartedAt: 2025-07-15 09:27:09 -0400 (Tue, 15 Jul 2025) EndedAt: 2025-07-15 09:28:09 -0400 (Tue, 15 Jul 2025) EllapsedTime: 59.6 seconds RetCode: 0 Status: OK PackageFile: MSstatsPTM_2.11.3.zip PackageFileSize: 2.364 MiB