Package: MSstatsPTM Version: 2.11.2 Command: /Library/Frameworks/R.framework/Resources/bin/R CMD INSTALL MSstatsPTM StartedAt: 2025-07-07 15:17:11 -0400 (Mon, 07 Jul 2025) EndedAt: 2025-07-07 15:17:49 -0400 (Mon, 07 Jul 2025) EllapsedTime: 37.7 seconds RetCode: 0 Status: OK