Package: MSstatsPTM Version: 2.11.2 Command: /Library/Frameworks/R.framework/Resources/bin/R CMD check --install=check:MSstatsPTM.install-out.txt --library=/Library/Frameworks/R.framework/Resources/library --no-vignettes --timings MSstatsPTM_2.11.2.tar.gz StartedAt: 2025-07-07 22:10:02 -0400 (Mon, 07 Jul 2025) EndedAt: 2025-07-07 22:13:56 -0400 (Mon, 07 Jul 2025) EllapsedTime: 233.9 seconds RetCode: 0 Status: WARNINGS CheckDir: MSstatsPTM.Rcheck Warnings: 2