Package: MSstatsPTM Version: 2.11.2 Command: /Library/Frameworks/R.framework/Resources/bin/R CMD build --keep-empty-dirs --no-resave-data MSstatsPTM StartedAt: 2025-07-07 17:45:47 -0400 (Mon, 07 Jul 2025) EndedAt: 2025-07-07 17:47:27 -0400 (Mon, 07 Jul 2025) EllapsedTime: 99.4 seconds RetCode: 0 Status: OK PackageFile: MSstatsPTM_2.11.2.tar.gz PackageFileSize: 2.883 MiB