Package: MSstatsPTM Version: 2.11.2 Command: /Library/Frameworks/R.framework/Resources/bin/R CMD check --install=check:MSstatsPTM.install-out.txt --library=/Library/Frameworks/R.framework/Resources/library --no-vignettes --timings MSstatsPTM_2.11.2.tar.gz StartedAt: 2025-07-04 20:21:14 -0400 (Fri, 04 Jul 2025) EndedAt: 2025-07-04 20:22:31 -0400 (Fri, 04 Jul 2025) EllapsedTime: 76.9 seconds RetCode: 0 Status: WARNINGS CheckDir: MSstatsPTM.Rcheck Warnings: 2