Package: MSstatsPTM Version: 2.11.2 Command: /Library/Frameworks/R.framework/Resources/bin/R CMD build --keep-empty-dirs --no-resave-data MSstatsPTM StartedAt: 2025-07-04 17:01:30 -0400 (Fri, 04 Jul 2025) EndedAt: 2025-07-04 17:02:00 -0400 (Fri, 04 Jul 2025) EllapsedTime: 29.4 seconds RetCode: 0 Status: OK PackageFile: MSstatsPTM_2.11.2.tar.gz PackageFileSize: 2.884 MiB