Package: MSstatsPTM Version: 2.11.2 Command: rm -rf MSstatsPTM.buildbin-libdir && mkdir MSstatsPTM.buildbin-libdir && /Users/biocbuild/BBS/utils/build-universal.sh MSstatsPTM_2.11.2.tar.gz /Library/Frameworks/R.framework/Resources/bin/R MSstatsPTM.buildbin-libdir StartedAt: 2025-07-04 22:26:32 -0400 (Fri, 04 Jul 2025) EndedAt: 2025-07-04 22:26:43 -0400 (Fri, 04 Jul 2025) EllapsedTime: 11.3 seconds RetCode: 0 Status: OK PackageFile: MSstatsPTM_2.11.2.tgz PackageFileSize: 3.319 MiB