Package: MSstatsLOBD Version: 1.17.0 Command: /home/biocbuild/R/R/bin/R CMD INSTALL MSstatsLOBD StartedAt: 2025-06-30 20:22:28 -0000 (Mon, 30 Jun 2025) EndedAt: 2025-06-30 20:22:50 -0000 (Mon, 30 Jun 2025) EllapsedTime: 22.3 seconds RetCode: 0 Status: OK