Package: MSstatsLOBD Version: 1.17.0 Command: /home/biocbuild/R/R/bin/R CMD check --install=check:MSstatsLOBD.install-out.txt --library=/home/biocbuild/R/R/site-library --no-vignettes --timings MSstatsLOBD_1.17.0.tar.gz StartedAt: 2025-07-01 09:42:10 -0000 (Tue, 01 Jul 2025) EndedAt: 2025-07-01 09:42:49 -0000 (Tue, 01 Jul 2025) EllapsedTime: 39.1 seconds RetCode: 0 Status: OK CheckDir: MSstatsLOBD.Rcheck Warnings: 0