Package: MSstatsLOBD Version: 1.17.0 Command: /Library/Frameworks/R.framework/Resources/bin/R CMD build --keep-empty-dirs --no-resave-data MSstatsLOBD StartedAt: 2025-07-14 17:48:32 -0400 (Mon, 14 Jul 2025) EndedAt: 2025-07-14 17:49:00 -0400 (Mon, 14 Jul 2025) EllapsedTime: 28.6 seconds RetCode: 0 Status: OK PackageFile: MSstatsLOBD_1.17.0.tar.gz PackageFileSize: 338.8 KiB