Package: MSstatsLOBD Version: 1.17.0 Command: /Library/Frameworks/R.framework/Resources/bin/R CMD check --install=check:MSstatsLOBD.install-out.txt --library=/Library/Frameworks/R.framework/Resources/library --no-vignettes --timings MSstatsLOBD_1.17.0.tar.gz StartedAt: 2025-06-29 20:22:06 -0400 (Sun, 29 Jun 2025) EndedAt: 2025-06-29 20:22:24 -0400 (Sun, 29 Jun 2025) EllapsedTime: 17.2 seconds RetCode: 0 Status: OK CheckDir: MSstatsLOBD.Rcheck Warnings: 0