Package: MSstatsConvert Version: 1.19.0 Command: /Library/Frameworks/R.framework/Resources/bin/R CMD check --install=check:MSstatsConvert.install-out.txt --library=/Library/Frameworks/R.framework/Resources/library --no-vignettes --timings MSstatsConvert_1.19.0.tar.gz StartedAt: 2025-07-17 20:30:05 -0400 (Thu, 17 Jul 2025) EndedAt: 2025-07-17 20:30:22 -0400 (Thu, 17 Jul 2025) EllapsedTime: 17.2 seconds RetCode: 0 Status: WARNINGS CheckDir: MSstatsConvert.Rcheck Warnings: 2