Package: MSstatsConvert Version: 1.19.0 Command: /Library/Frameworks/R.framework/Resources/bin/R CMD build --keep-empty-dirs --no-resave-data MSstatsConvert StartedAt: 2025-07-16 17:01:34 -0400 (Wed, 16 Jul 2025) EndedAt: 2025-07-16 17:01:39 -0400 (Wed, 16 Jul 2025) EllapsedTime: 5.1 seconds RetCode: 0 Status: OK PackageFile: MSstatsConvert_1.19.0.tar.gz PackageFileSize: 1.803 MiB