Package: MSstatsConvert Version: 1.19.0 Command: rm -rf MSstatsConvert.buildbin-libdir && mkdir MSstatsConvert.buildbin-libdir && /Users/biocbuild/BBS/utils/build-universal.sh MSstatsConvert_1.19.0.tar.gz /Library/Frameworks/R.framework/Resources/bin/R MSstatsConvert.buildbin-libdir StartedAt: 2025-07-16 22:26:19 -0400 (Wed, 16 Jul 2025) EndedAt: 2025-07-16 22:26:22 -0400 (Wed, 16 Jul 2025) EllapsedTime: 3.0 seconds RetCode: 0 Status: OK PackageFile: MSstatsConvert_1.19.0.tgz PackageFileSize: 2.108 MiB