Package: MSstatsBioNet Version: 1.1.3 Command: F:\biocbuild\bbs-3.22-bioc\R\bin\R.exe CMD INSTALL MSstatsBioNet StartedAt: 2025-07-04 16:37:28 -0400 (Fri, 04 Jul 2025) EndedAt: 2025-07-04 16:38:10 -0400 (Fri, 04 Jul 2025) EllapsedTime: 42.2 seconds RetCode: 0 Status: OK