Package: MSstatsBioNet Version: 1.1.3 Command: chmod a+r MSstatsBioNet -R && F:\biocbuild\bbs-3.22-bioc\R\bin\R.exe CMD build --keep-empty-dirs --no-resave-data MSstatsBioNet StartedAt: 2025-07-04 20:34:29 -0400 (Fri, 04 Jul 2025) EndedAt: 2025-07-04 20:35:04 -0400 (Fri, 04 Jul 2025) EllapsedTime: 35.1 seconds RetCode: 0 Status: OK PackageFile: MSstatsBioNet_1.1.3.tar.gz PackageFileSize: 278.7 KiB