Package: MSstatsBioNet Version: 1.1.3 Command: rm -rf MSstatsBioNet.buildbin-libdir && mkdir MSstatsBioNet.buildbin-libdir && F:\biocbuild\bbs-3.22-bioc\R\bin\R.exe CMD INSTALL --build --library=MSstatsBioNet.buildbin-libdir MSstatsBioNet_1.1.3.tar.gz StartedAt: 2025-07-05 09:22:15 -0400 (Sat, 05 Jul 2025) EndedAt: 2025-07-05 09:22:55 -0400 (Sat, 05 Jul 2025) EllapsedTime: 39.7 seconds RetCode: 0 Status: OK PackageFile: MSstatsBioNet_1.1.3.zip PackageFileSize: 333.9 KiB