Package: MSstatsBig Version: 1.7.0 Command: chmod a+r MSstatsBig -R && F:\biocbuild\bbs-3.22-bioc\R\bin\R.exe CMD build --keep-empty-dirs --no-resave-data MSstatsBig StartedAt: 2025-07-11 20:34:57 -0400 (Fri, 11 Jul 2025) EndedAt: 2025-07-11 20:35:23 -0400 (Fri, 11 Jul 2025) EllapsedTime: 26.0 seconds RetCode: 0 Status: OK PackageFile: MSstatsBig_1.7.0.tar.gz PackageFileSize: 70.32 KiB