Package: MSstatsBig Version: 1.7.0 Command: rm -rf MSstatsBig.buildbin-libdir && mkdir MSstatsBig.buildbin-libdir && F:\biocbuild\bbs-3.22-bioc\R\bin\R.exe CMD INSTALL --build --library=MSstatsBig.buildbin-libdir MSstatsBig_1.7.0.tar.gz StartedAt: 2025-07-12 09:21:37 -0400 (Sat, 12 Jul 2025) EndedAt: 2025-07-12 09:21:54 -0400 (Sat, 12 Jul 2025) EllapsedTime: 16.8 seconds RetCode: 0 Status: OK PackageFile: MSstatsBig_1.7.0.zip PackageFileSize: 98.33 KiB