Package: MSstats Version: 4.17.1 Command: /home/biocbuild/R/R/bin/R CMD check --install=check:MSstats.install-out.txt --library=/home/biocbuild/R/R/site-library --no-vignettes --timings MSstats_4.17.1.tar.gz StartedAt: 2025-10-03 09:24:16 -0000 (Fri, 03 Oct 2025) EndedAt: 2025-10-03 09:27:32 -0000 (Fri, 03 Oct 2025) EllapsedTime: 195.2 seconds RetCode: 0 Status: WARNINGS CheckDir: MSstats.Rcheck Warnings: 1