Package: MSstats Version: 4.17.1 Command: F:\biocbuild\bbs-3.22-bioc\R\bin\R.exe CMD INSTALL MSstats StartedAt: 2025-07-20 16:35:10 -0400 (Sun, 20 Jul 2025) EndedAt: 2025-07-20 16:36:47 -0400 (Sun, 20 Jul 2025) EllapsedTime: 97.1 seconds RetCode: 0 Status: OK