Package: MSstats Version: 4.17.1 Command: F:\biocbuild\bbs-3.22-bioc\R\bin\R.exe CMD check --no-multiarch --install=check:MSstats.install-out.txt --library=F:\biocbuild\bbs-3.22-bioc\R\library --no-vignettes --timings MSstats_4.17.1.tar.gz StartedAt: 2025-07-22 04:31:53 -0400 (Tue, 22 Jul 2025) EndedAt: 2025-07-22 04:35:00 -0400 (Tue, 22 Jul 2025) EllapsedTime: 186.8 seconds RetCode: 0 Status: WARNINGS CheckDir: MSstats.Rcheck Warnings: 1