Package: MSstats Version: 4.17.1 Command: /Library/Frameworks/R.framework/Resources/bin/R CMD build --keep-empty-dirs --no-resave-data MSstats StartedAt: 2025-07-04 17:37:14 -0400 (Fri, 04 Jul 2025) EndedAt: 2025-07-04 17:42:27 -0400 (Fri, 04 Jul 2025) EllapsedTime: 313.2 seconds RetCode: 0 Status: OK PackageFile: MSstats_4.17.1.tar.gz PackageFileSize: 474.1 KiB