Package: MSnbase Version: 2.35.0 Command: /home/biocbuild/R/R/bin/R CMD check --install=check:MSnbase.install-out.txt --library=/home/biocbuild/R/R/site-library --no-vignettes --timings MSnbase_2.35.0.tar.gz StartedAt: 2025-07-08 08:52:36 -0000 (Tue, 08 Jul 2025) EndedAt: 2025-07-08 09:11:16 -0000 (Tue, 08 Jul 2025) EllapsedTime: 1119.5 seconds RetCode: 0 Status: OK CheckDir: MSnbase.Rcheck Warnings: 0