Package: MSnbase Version: 2.35.0 Command: /home/biocbuild/R/R/bin/R CMD build --keep-empty-dirs --no-resave-data MSnbase StartedAt: 2025-07-08 01:05:11 -0000 (Tue, 08 Jul 2025) EndedAt: 2025-07-08 01:09:31 -0000 (Tue, 08 Jul 2025) EllapsedTime: 260.1 seconds RetCode: 0 Status: OK PackageFile: MSnbase_2.35.0.tar.gz PackageFileSize: 6.213 MiB