Package: MSnbase Version: 2.35.0 Command: chmod a+r MSnbase -R && F:\biocbuild\bbs-3.22-bioc\R\bin\R.exe CMD build --keep-empty-dirs --no-resave-data MSnbase StartedAt: 2025-07-16 20:33:03 -0400 (Wed, 16 Jul 2025) EndedAt: 2025-07-16 20:45:03 -0400 (Wed, 16 Jul 2025) EllapsedTime: 720.6 seconds RetCode: 0 Status: OK PackageFile: MSnbase_2.35.0.tar.gz PackageFileSize: 5.433 MiB