Package: MSnbase Version: 2.35.0 Command: rm -rf MSnbase.buildbin-libdir && mkdir MSnbase.buildbin-libdir && F:\biocbuild\bbs-3.22-bioc\R\bin\R.exe CMD INSTALL --build --library=MSnbase.buildbin-libdir MSnbase_2.35.0.tar.gz StartedAt: 2025-07-17 09:28:10 -0400 (Thu, 17 Jul 2025) EndedAt: 2025-07-17 09:32:06 -0400 (Thu, 17 Jul 2025) EllapsedTime: 235.9 seconds RetCode: 0 Status: OK PackageFile: MSnbase_2.35.0.zip PackageFileSize: 7.185 MiB