Package: MSnbase Version: 2.35.2 Command: /Library/Frameworks/R.framework/Resources/bin/R CMD INSTALL MSnbase StartedAt: 2025-10-05 15:19:41 -0400 (Sun, 05 Oct 2025) EndedAt: 2025-10-05 15:20:09 -0400 (Sun, 05 Oct 2025) EllapsedTime: 28.4 seconds RetCode: 0 Status: OK