Package: MSnbase Version: 2.35.2 Command: /Library/Frameworks/R.framework/Resources/bin/R CMD check --install=check:MSnbase.install-out.txt --library=/Library/Frameworks/R.framework/Resources/library --no-vignettes --timings MSnbase_2.35.2.tar.gz StartedAt: 2025-10-05 20:40:49 -0400 (Sun, 05 Oct 2025) EndedAt: 2025-10-05 20:47:17 -0400 (Sun, 05 Oct 2025) EllapsedTime: 388.0 seconds RetCode: 0 Status: OK CheckDir: MSnbase.Rcheck Warnings: 0