Package: MSnbase Version: 2.35.2 Command: rm -rf MSnbase.buildbin-libdir && mkdir MSnbase.buildbin-libdir && /Users/biocbuild/BBS/utils/build-universal.sh MSnbase_2.35.2.tar.gz /Library/Frameworks/R.framework/Resources/bin/R MSnbase.buildbin-libdir StartedAt: 2025-10-06 22:52:17 -0400 (Mon, 06 Oct 2025) EndedAt: 2025-10-06 22:52:49 -0400 (Mon, 06 Oct 2025) EllapsedTime: 31.6 seconds RetCode: 0 Status: OK PackageFile: MSnbase_2.35.2.tgz PackageFileSize: 8.931 MiB