Package: MSA2dist Version: 1.13.0 Command: /Library/Frameworks/R.framework/Resources/bin/R CMD check --install=check:MSA2dist.install-out.txt --library=/Library/Frameworks/R.framework/Resources/library --no-vignettes --timings MSA2dist_1.13.0.tar.gz StartedAt: 2025-07-14 20:19:02 -0400 (Mon, 14 Jul 2025) EndedAt: 2025-07-14 20:20:29 -0400 (Mon, 14 Jul 2025) EllapsedTime: 87.1 seconds RetCode: 0 Status: OK CheckDir: MSA2dist.Rcheck Warnings: 0