Package: MSA2dist Version: 1.13.0 Command: /Library/Frameworks/R.framework/Resources/bin/R CMD build --keep-empty-dirs --no-resave-data MSA2dist StartedAt: 2025-07-14 17:00:34 -0400 (Mon, 14 Jul 2025) EndedAt: 2025-07-14 17:01:02 -0400 (Mon, 14 Jul 2025) EllapsedTime: 28.3 seconds RetCode: 0 Status: OK PackageFile: MSA2dist_1.13.0.tar.gz PackageFileSize: 878.9 KiB