Package: MPRAnalyze Version: 1.27.0 Command: /home/biocbuild/R/R/bin/R CMD build --keep-empty-dirs --no-resave-data MPRAnalyze StartedAt: 2025-06-27 01:07:16 -0000 (Fri, 27 Jun 2025) EndedAt: 2025-06-27 01:09:00 -0000 (Fri, 27 Jun 2025) EllapsedTime: 104.0 seconds RetCode: 0 Status: OK PackageFile: MPRAnalyze_1.27.0.tar.gz PackageFileSize: 416.9 KiB