Package: MPRAnalyze Version: 1.27.0 Command: chmod a+r MPRAnalyze -R && F:\biocbuild\bbs-3.22-bioc\R\bin\R.exe CMD build --keep-empty-dirs --no-resave-data MPRAnalyze StartedAt: 2025-07-24 20:45:37 -0400 (Thu, 24 Jul 2025) EndedAt: 2025-07-24 20:47:18 -0400 (Thu, 24 Jul 2025) EllapsedTime: 101.1 seconds RetCode: 0 Status: OK PackageFile: MPRAnalyze_1.27.0.tar.gz PackageFileSize: 336.3 KiB