Package: MPRAnalyze Version: 1.27.0 Command: rm -rf MPRAnalyze.buildbin-libdir && mkdir MPRAnalyze.buildbin-libdir && F:\biocbuild\bbs-3.22-bioc\R\bin\R.exe CMD INSTALL --build --library=MPRAnalyze.buildbin-libdir MPRAnalyze_1.27.0.tar.gz StartedAt: 2025-07-25 09:45:08 -0400 (Fri, 25 Jul 2025) EndedAt: 2025-07-25 09:45:58 -0400 (Fri, 25 Jul 2025) EllapsedTime: 50.0 seconds RetCode: 0 Status: OK PackageFile: MPRAnalyze_1.27.0.zip PackageFileSize: 568.3 KiB