Package: MPFE Version: 1.45.0 Command: F:\biocbuild\bbs-3.22-bioc\R\bin\R.exe CMD INSTALL MPFE StartedAt: 2025-07-16 15:18:28 -0400 (Wed, 16 Jul 2025) EndedAt: 2025-07-16 15:18:41 -0400 (Wed, 16 Jul 2025) EllapsedTime: 12.4 seconds RetCode: 0 Status: OK