Package: MPFE Version: 1.45.0 Command: rm -rf MPFE.buildbin-libdir && mkdir MPFE.buildbin-libdir && F:\biocbuild\bbs-3.22-bioc\R\bin\R.exe CMD INSTALL --build --library=MPFE.buildbin-libdir MPFE_1.45.0.tar.gz StartedAt: 2025-07-17 09:27:09 -0400 (Thu, 17 Jul 2025) EndedAt: 2025-07-17 09:27:14 -0400 (Thu, 17 Jul 2025) EllapsedTime: 5.8 seconds RetCode: 0 Status: OK PackageFile: MPFE_1.45.0.zip PackageFileSize: 131.5 KiB