Package: MPFE Version: 1.45.0 Command: /Library/Frameworks/R.framework/Resources/bin/R CMD INSTALL MPFE StartedAt: 2025-07-15 15:01:11 -0400 (Tue, 15 Jul 2025) EndedAt: 2025-07-15 15:01:13 -0400 (Tue, 15 Jul 2025) EllapsedTime: 1.5 seconds RetCode: 0 Status: OK