Package: MPFE Version: 1.45.0 Command: /Library/Frameworks/R.framework/Resources/bin/R CMD check --install=check:MPFE.install-out.txt --library=/Library/Frameworks/R.framework/Resources/library --no-vignettes --timings MPFE_1.45.0.tar.gz StartedAt: 2025-07-17 20:26:45 -0400 (Thu, 17 Jul 2025) EndedAt: 2025-07-17 20:26:58 -0400 (Thu, 17 Jul 2025) EllapsedTime: 13.1 seconds RetCode: 0 Status: OK CheckDir: MPFE.Rcheck Warnings: 0