Package: MPAC Version: 1.3.0 Command: /Library/Frameworks/R.framework/Resources/bin/R CMD INSTALL MPAC StartedAt: 2025-07-03 15:46:13 -0400 (Thu, 03 Jul 2025) EndedAt: 2025-07-03 15:46:58 -0400 (Thu, 03 Jul 2025) EllapsedTime: 44.9 seconds RetCode: 0 Status: OK