Package: MPAC Version: 1.3.0 Command: rm -rf MPAC.buildbin-libdir && mkdir MPAC.buildbin-libdir && /Users/biocbuild/BBS/utils/build-universal.sh MPAC_1.3.0.tar.gz /Library/Frameworks/R.framework/Resources/bin/R MPAC.buildbin-libdir StartedAt: 2025-07-05 00:56:12 -0400 (Sat, 05 Jul 2025) EndedAt: 2025-07-05 00:56:59 -0400 (Sat, 05 Jul 2025) EllapsedTime: 47.3 seconds RetCode: 0 Status: OK PackageFile: MPAC_1.3.0.tgz PackageFileSize: 859.5 KiB