Package: MPAC Version: 1.3.0 Command: /Library/Frameworks/R.framework/Resources/bin/R CMD INSTALL MPAC StartedAt: 2025-07-01 15:28:11 -0400 (Tue, 01 Jul 2025) EndedAt: 2025-07-01 15:28:24 -0400 (Tue, 01 Jul 2025) EllapsedTime: 13.3 seconds RetCode: 0 Status: OK