Package: MPAC Version: 1.3.0 Command: /Library/Frameworks/R.framework/Resources/bin/R CMD build --keep-empty-dirs --no-resave-data MPAC StartedAt: 2025-07-01 16:59:39 -0400 (Tue, 01 Jul 2025) EndedAt: 2025-07-01 17:00:06 -0400 (Tue, 01 Jul 2025) EllapsedTime: 27.3 seconds RetCode: 0 Status: OK PackageFile: MPAC_1.3.0.tar.gz PackageFileSize: 832.4 KiB